BEGIN:VCALENDAR
VERSION:2.0
PRODID:-//hacksw/handcal//NONSGML v1.0//EN
CALSCALE:GREGORIAN
BEGIN:VEVENT
ORGANIZER;CN=A. O. Smith Corporation:MAILTO:no-reply@mail.gcs-web.com
DTEND:
UID:a25f9b8b-326d-4aa8-bf45-42bf43716fab
DTSTAMP:1777130648
LOCATION:https://edge.media-server.com/mmc/p/zafwnt7c
DESCRIPTION:Event Details https://investor.aosmith.com/events/event-details/first-quarter-2026-earnings-call\n\nWebcast: https://edge.media-server.com/mmc/p/zafwnt7c
URL;VALUE=URI:https://edge.media-server.com/mmc/p/zafwnt7c
SUMMARY:A. O. Smith Corporation - First Quarter 2026 Earnings Call
DTSTART:20260430T140000Z
END:VEVENT
END:VCALENDAR